BEGIN:VCALENDAR
VERSION:2.0
PRODID:-//eventon.com NONSGML v1.0//EN
CALSCALE:GREGORIAN
METHOD:PUBLISH
BEGIN:VEVENT
UID:69e6cb92ce5ca
DTSTAMP:20260421T005754Z
DTSTART:20250830T160000Z
DTEND:20250830T180000Z
LOCATION:Münnerstadt Marktpl. 1\,  97702 Münnerstadt
SUMMARY:Heimatspiel Münnerstadt
DESCRIPTION:Heimatspiel Münnerstadt\nhttps://prettynoice.com/Termine/heima
 tspiel-muennerstadt/
URL:https://prettynoice.com/Termine/heimatspiel-muennerstadt/
END:VEVENT
END:VCALENDAR