BEGIN:VCALENDAR
VERSION:2.0
PRODID:-//eventon.com NONSGML v1.0//EN
CALSCALE:GREGORIAN
METHOD:PUBLISH
BEGIN:VEVENT
UID:69e9f383116d6
DTSTAMP:20260423T102507Z
DTSTART:20230624
DTEND:20230625
LOCATION:Bühne Rathaushof Rathauspl. 3\,  04435 Schkeuditz
SUMMARY:Johannes Scheurich - Schkeuditzer Stadtfest
DESCRIPTION:Johannes Scheurich – das ist die tiefste Stimme Leipzigs\,  d
 er Bela B. des Indie-Pop und nicht umsonst auch Leipziger Songslam-Champion
 . Große Gefühle liegen dem gebürtigen Mecklenburger genauso gut wie unve
 rblümte Sozialkritik\,  Lachen und Melancholie drücken sich auf seinen Sh
 ows die Klinke in die Hand. 2020 veröffentlichte der Singer-Songwriter vol
 lkommen independent[..]\nhttps://prettynoice.com/Termine/johannes-scheurich
 -schkeuditzer-stadtfest/
URL:https://prettynoice.com/Termine/johannes-scheurich-schkeuditzer-stadtfest/
END:VEVENT
END:VCALENDAR